BEGIN:VCALENDAR
VERSION:2.0
PRODID:-//Northern Arts &amp; Cultural Centre - ECPv6.13.2//NONSGML v1.0//EN
CALSCALE:GREGORIAN
METHOD:PUBLISH
X-WR-CALNAME:Northern Arts &amp; Cultural Centre
X-ORIGINAL-URL:https://naccnt.ca
X-WR-CALDESC:Events for Northern Arts &amp; Cultural Centre
REFRESH-INTERVAL;VALUE=DURATION:PT1H
X-Robots-Tag:noindex
X-PUBLISHED-TTL:PT1H
BEGIN:VTIMEZONE
TZID:America/Edmonton
BEGIN:DAYLIGHT
TZOFFSETFROM:-0700
TZOFFSETTO:-0600
TZNAME:MDT
DTSTART:20260308T090000
END:DAYLIGHT
BEGIN:STANDARD
TZOFFSETFROM:-0600
TZOFFSETTO:-0700
TZNAME:MST
DTSTART:20261101T080000
END:STANDARD
END:VTIMEZONE
BEGIN:VEVENT
DTSTART;TZID=America/Edmonton:20260424T193000
DTEND;TZID=America/Edmonton:20260424T193000
DTSTAMP:20260424T060704
CREATED:20260326T205407Z
LAST-MODIFIED:20260326T210225Z
UID:10000308-1777059000-1777059000@naccnt.ca
SUMMARY:Crazy For You
DESCRIPTION:Ptarmigan Ptheatrics is proud to present Crazy For You\, a fun for the whole family musical that is sure to have audiences laughing and their toes tapping. There is something for everyone in this high-energy\, dance filled show! Featuring the talents of over 35 Yellowknife performers\, we can’t wait to share this story with you.  \n\n\n\nA zany rich-boy-meets-hometown-girl romantic comedy\, Crazy For You tells the story of young New York banker Bobby Child\, who is sent to Deadrock to foreclose on a rundown theatre. In Deadrock\, Bobby falls for spunky Polly Baker\, the theatre owner’s daughter. But Polly takes an instant dislike to the city slicker\, so Bobby vows – through cunning\, razzmatazz\, and a hilarious case of mistaken identity – to win Polly’s heart and save the theatre. Memorable Gershwin tunes from the score include “I Got Rhythm\,” “Naughty Baby\,” “They Can’t Take That Away from Me\,” “Embraceable You\,” “But Not for Me\,” “Nice Work If You Can Get It” and “Someone to Watch Over Me.” \n\n\n\n\n\n\n\n\n\n\n\n \n\n\n\n\n\n\n\n\nThis event is organized by:
URL:https://naccnt.ca/event/crazy-for-you-2/
LOCATION:Northern Arts and Cultural Centre (NACC)\, 4701 52nd Ave\, Yellowknife\, NT\, X1A 2N7\, Canada
CATEGORIES:Yellowknife
ATTACH;FMTTYPE=image/jpeg:https://naccnt.ca/wp-content/uploads/2026/03/crazyforyouspektrix.jpg
ORGANIZER;CN="Ptarmigan Ptheatrics":MAILTO:info@ptarmiganptheatrics.org
END:VEVENT
END:VCALENDAR