BEGIN:VCALENDAR
VERSION:2.0
PRODID:-//Northern Arts &amp; Cultural Centre - ECPv6.13.2//NONSGML v1.0//EN
CALSCALE:GREGORIAN
METHOD:PUBLISH
X-ORIGINAL-URL:https://naccnt.ca
X-WR-CALDESC:Events for Northern Arts &amp; Cultural Centre
REFRESH-INTERVAL;VALUE=DURATION:PT1H
X-Robots-Tag:noindex
X-PUBLISHED-TTL:PT1H
BEGIN:VTIMEZONE
TZID:America/Edmonton
BEGIN:DAYLIGHT
TZOFFSETFROM:-0700
TZOFFSETTO:-0600
TZNAME:MDT
DTSTART:20250309T090000
END:DAYLIGHT
BEGIN:STANDARD
TZOFFSETFROM:-0600
TZOFFSETTO:-0700
TZNAME:MST
DTSTART:20251102T080000
END:STANDARD
END:VTIMEZONE
BEGIN:VEVENT
DTSTART;TZID=America/Edmonton:20251001T193000
DTEND;TZID=America/Edmonton:20251001T193000
DTSTAMP:20260420T050146
CREATED:20250815T220000Z
LAST-MODIFIED:20250916T162839Z
UID:10000250-1759347000-1759347000@naccnt.ca
SUMMARY:Kiuryaq in Hay River
DESCRIPTION:Presented by \n\n\n\n\n\n\n\n\n\n\n\nA Production By  \n\n\n\n\n\n\n\nNever whistle at the Northern Lights. They will come down and get you. They will play soccer with your head. They are also ancestors calling you home. Kiuryaq is ‘Aurora Borealis’ in the Western Arctic Inuvialuit language of Inuvialuktun\, in reference to their bright colours. \n\n\n\nKiuryaq is an immersive circumpolar theatre performance that explores our relationship with the Northern Lights. It is a multi-disciplinary piece created in collaboration with sound composers\, digital media artists\, and theatre artists from Indigenous and non-Indigenous peoples of Canada\, Greenland\, Sápmi territory and Alaska.  \n\n\n\nWe follow these northern stories of connection that inspire us through the aurora borealis\, or kiuryaq in Inuvialuktun. These stories – frightening\, spiritual\, epic and playful – are situated in our memories of then and experiences of now. All are held in our vast cosmologies\, converging in ways that could not have imagined when this journey began.  \n\n\n\nKiuryaq is about two siblings born in the North\, an older sister and a younger brother. One is taken down south by a forced adoption and raised with no knowledge of their place of birth\, the other is raised under the Aurora with their grandparents. Under the ancestral connection of the Northern Lights\, choices are made that change both their realities. \n\n\n\nKiuryaq is a transformative performance work which brings the circumpolar region together to share wisdom\, warnings and humour to all those who are curious. In form\, Kiuryaq blends theatre\, with three performers embodying multiple roles; concert\, featuring original music played by a live string quartet; and film\, with expansive\, immersive projections.  \n\n\n\n\n\n\n\n\n\n\n\n\n\n\n\n\n\nCreative Team\n\n\n\nProducers: Akpik Theatre & TheaturtleDirector: Reneltta ArlukMusic Director: Carmen BradenWriters: Reneltta Arluk\, Rawdna Carita Eira\, Alon NashmanDramaturgy: Christopher MorrisCultural Envoy: Rawdna Carita EiraPerformers: Julia Ulayok Davis\, Salik Lennert\, Elin OskalChoreographer: Fia GrogonoStage Management: Ashley ReesLighting Design: Itai ErdalCostume & Props Design: Jay HavensComposer | Sound Designer: Carmen BradenLive Performance and Recording: Dior Quartet (Noa Sarid\, Joanne Yesol Choi\, Yuri Santos\, Tobias Elser\, Jacob Clewell\, Caleb Georges) Set Design | Illustrator: Hailey VerbonacVideo Design: Chimerik 似不像Digital Content: Davis Heslep & Barry BilinskyVideo Dramaturgy: Barry BilinskyCollaborating Filmmakers: Riddle Films & Cabin ProductionsImage Design: Rise Frequency Intuitive Graphic Design \n\n\n\n\nhttps://vimeo.com/1037889251?fl=plu0026fe=vl\n\n\n\n\n\n\n\n\n\nThis event is organized by:
URL:https://naccnt.ca/event/kiuryaq-in-hay-river/
LOCATION:The Hay River Recreation Centre\, Hay River\, NT\, Canada
CATEGORIES:Hay River,NACC Presents,Season Shows
ATTACH;FMTTYPE=image/jpeg:https://naccnt.ca/wp-content/uploads/2025/08/kiuryaq-spektrix.jpg
END:VEVENT
BEGIN:VEVENT
DTSTART;TZID=America/Edmonton:20251002T193000
DTEND;TZID=America/Edmonton:20251002T193000
DTSTAMP:20260420T050146
CREATED:20250815T220000Z
LAST-MODIFIED:20251002T154823Z
UID:10000251-1759433400-1759433400@naccnt.ca
SUMMARY:Kiuryaq in Fort Smith
DESCRIPTION:Presented by \n\n\n\n\n\n\n\n\n\n\n\nA Production By  \n\n\n\n\n\n\n\nNever whistle at the Northern Lights. They will come down and get you. They will play soccer with your head. They are also ancestors calling you home. Kiuryaq is ‘Aurora Borealis’ in the Western Arctic Inuvialuit language of Inuvialuktun\, in reference to their bright colours. \n\n\n\nKiuryaq is an immersive circumpolar theatre performance that explores our relationship with the Northern Lights. It is a multi-disciplinary piece created in collaboration with sound composers\, digital media artists\, and theatre artists from Indigenous and non-Indigenous peoples of Canada\, Greenland\, Sápmi territory and Alaska.  \n\n\n\nWe follow these northern stories of connection that inspire us through the aurora borealis\, or kiuryaq in Inuvialuktun. These stories – frightening\, spiritual\, epic and playful – are situated in our memories of then and experiences of now. All are held in our vast cosmologies\, converging in ways that could not have imagined when this journey began.  \n\n\n\nKiuryaq is about two siblings born in the North\, an older sister and a younger brother. One is taken down south by a forced adoption and raised with no knowledge of their place of birth\, the other is raised under the Aurora with their grandparents. Under the ancestral connection of the Northern Lights\, choices are made that change both their realities. \n\n\n\nKiuryaq is a transformative performance work which brings the circumpolar region together to share wisdom\, warnings and humour to all those who are curious. In form\, Kiuryaq blends theatre\, with three performers embodying multiple roles; concert\, featuring original music played by a live string quartet; and film\, with expansive\, immersive projections.  \n\n\n\n\n\n\n\n\n\n\n\n\n\n\n\n\n\nCreative Team\n\n\n\nProducers: Akpik Theatre & TheaturtleDirector: Reneltta ArlukMusic Director: Carmen BradenWriters: Reneltta Arluk\, Rawdna Carita Eira\, Alon NashmanDramaturgy: Christopher MorrisCultural Envoy: Rawdna Carita EiraPerformers: Julia Ulayok Davis\, Salik Lennert\, Elin OskalChoreographer: Fia GrogonoTechnical Director: Jessica HanProduction Manager: Kayleigh SandomirskyStage Management: Ashley ReesLighting Design: Itai ErdalCostume & Props Design: Jay HavensComposer | Sound Designer: Carmen BradenMusic Recording: Dior Quartet (Noa Sarid\, Joanne Yesol Choi\, Yuri Santos\, Tobias Elser\, Jacob Clewell\, Caleb Georges) Set Design | Illustrator: Hailey VerbonacVideo Design: Chimerik 似不像Digital Content: Davis Heslep & Barry BilinskyVideo Dramaturgy: Barry BilinskyCollaborating Filmmakers: Riddle Films & Cabin ProductionsImage Design: Rise Frequency Intuitive Graphic DesignNew Media/Projection Design Support Team: Chimerik 似不像New Media/Projection Design Collaborator: Vanka SalimNew Media/Projection Design Consultant & Facilitator: Sammy Chien-MacCaullProjection Technical Consultant: Cody Dyson \n\n\n\n\nhttps://vimeo.com/1037889251?fl=plu0026fe=vl\n\n\n\n\n\n\n\n\n\nThis event is organized by:
URL:https://naccnt.ca/event/kiuryaq-in-fort-smith/
LOCATION:Salt River First Nation Business & Conference Centre\, Ft. Smith\, NT\, Canada
CATEGORIES:Fort Smith,NACC Presents,Season Shows
ATTACH;FMTTYPE=image/jpeg:https://naccnt.ca/wp-content/uploads/2025/08/kiuryaq-spektrix.jpg
END:VEVENT
BEGIN:VEVENT
DTSTART;TZID=America/Edmonton:20251010T193000
DTEND;TZID=America/Edmonton:20251010T193000
DTSTAMP:20260420T050146
CREATED:20250815T220000Z
LAST-MODIFIED:20250920T010542Z
UID:10000234-1760124600-1760124600@naccnt.ca
SUMMARY:The Comic Strippers
DESCRIPTION:19+ ONLY! \n\n\n\n\n\n\n\nWARNING! No Extreme Nudity\, Just Extreme Hilarity!\n\n\n\nThe award-winning improv comedians are back with a new show with more moves and even quicker wits. A fictitious male stripper troupe (played by some of Canada’s best improvisational comedians) perform a sexylarious improv comedy show. They’re trying to be sexy… but it just comes out funny. Constantly grooving and gyrating\, they banter with the crowd and perform hilarious improv sketches. Semi-undressed and completely unscripted\, The Comic Strippers take off their shirts and take on your suggestions to create an entirely unique show and a whole new genre of comedy. \n\n\n\nCanadian Comedy Award Winner of ‘BEST LIVE PRODUCTION’   \n\n\n\n\n\n\n\n\n\n\n\n\n\n\n\n\n\n\n\n\n\nThe show is suitable for both men and women. An entertaining ride where anything goes. Rip It Up Magazine\n\n\n\n\n\n\n\n\n\n\n\n\n\n\nThis event is organized by:
URL:https://naccnt.ca/event/the-comic-strippers/2025-10-10/
LOCATION:Northern Arts and Cultural Centre (NACC)\, 4701 52nd Ave\, Yellowknife\, NT\, X1A 2N7\, Canada
CATEGORIES:NACC Presents,Yellowknife
ATTACH;FMTTYPE=image/jpeg:https://naccnt.ca/wp-content/uploads/2025/09/comicstrippersspektrix.jpg
END:VEVENT
BEGIN:VEVENT
DTSTART;TZID=America/Edmonton:20251011T193000
DTEND;TZID=America/Edmonton:20251011T193000
DTSTAMP:20260420T050146
CREATED:20250815T220000Z
LAST-MODIFIED:20250920T010542Z
UID:10000235-1760211000-1760211000@naccnt.ca
SUMMARY:The Comic Strippers
DESCRIPTION:19+ ONLY! \n\n\n\n\n\n\n\nWARNING! No Extreme Nudity\, Just Extreme Hilarity!\n\n\n\nThe award-winning improv comedians are back with a new show with more moves and even quicker wits. A fictitious male stripper troupe (played by some of Canada’s best improvisational comedians) perform a sexylarious improv comedy show. They’re trying to be sexy… but it just comes out funny. Constantly grooving and gyrating\, they banter with the crowd and perform hilarious improv sketches. Semi-undressed and completely unscripted\, The Comic Strippers take off their shirts and take on your suggestions to create an entirely unique show and a whole new genre of comedy. \n\n\n\nCanadian Comedy Award Winner of ‘BEST LIVE PRODUCTION’   \n\n\n\n\n\n\n\n\n\n\n\n\n\n\n\n\n\n\n\n\n\nThe show is suitable for both men and women. An entertaining ride where anything goes. Rip It Up Magazine\n\n\n\n\n\n\n\n\n\n\n\n\n\n\nThis event is organized by:
URL:https://naccnt.ca/event/the-comic-strippers/2025-10-11/
LOCATION:Northern Arts and Cultural Centre (NACC)\, 4701 52nd Ave\, Yellowknife\, NT\, X1A 2N7\, Canada
CATEGORIES:NACC Presents,Yellowknife
ATTACH;FMTTYPE=image/jpeg:https://naccnt.ca/wp-content/uploads/2025/09/comicstrippersspektrix.jpg
END:VEVENT
BEGIN:VEVENT
DTSTART;TZID=America/Edmonton:20251017T193000
DTEND;TZID=America/Edmonton:20251017T193000
DTSTAMP:20260420T050146
CREATED:20250815T220000Z
LAST-MODIFIED:20250920T010508Z
UID:10000236-1760729400-1760729400@naccnt.ca
SUMMARY:Matt Andersen
DESCRIPTION:With Opening Act Old Man Luedecke! \n\n\n\n\n\n\n\nWhen Matt Andersen steps on stage\, he brings a lifetime of music to every note he plays. His latest album\, The Hammer & The Rose\, is a veritable garden of heart; a (mostly) delicate collection of tender folk and stirring soul numbers that find the New Brunswick-born songwriter thoughtfully tending to the most important things in life. Andersen’s stage presence is informed by decades of cutting his teeth in dusty clubs\, dim-lit bars\, and grand theatres all over the world\, delivering moving performances that run the gamut from intimate to wall-shaking. In the studio\, he’s always brought the same attention to detail and commitment to craft as he has to his live show. The result is a multi-faceted and poignant body of work\, which has led him to amass over 33 million streams on Spotify and 30 million views on YouTube. \n\n\n\nIn addition to headlining major festivals\, clubs and theatres throughout North America\, Europe\, and Australia\, he has shared the stage and toured with Marcus King\, Beth Hart\, Marty Stuart\, Greg Allman\, Tedeschi Trucks Band\, Randy Bachman\, Serena Ryder\, Tab Benoit\, and more. \n\n\n\nAndersen nabbed the 2013 and 2016 European Blues Awards for Best Solo/Acoustic Act\, was the first ever Canadian to take home top honours in the solo category at the 2010 International Blues Challenge in Memphis\, won the CIMA Road Gold award in 2015\, and has won multiple Maple Blues Awards. Matt Andersen & The Big Bottle of Joy was nominated for a Juno Award in 2024. \n\n\n\n\n\n\n\n\n\n\n\n\n\n\n\n\n\n\n\n\n\n\n\n\n\n\n\nBack Again in the NWT As the Opening Act: Old Man Luedecke \n\n\n\nOld Man Luedecke is the recording and performing name of two-time JUNO award-winning and Polaris prize-nominated singer/songwriter Chris Luedecke. He’s a multiple East Coast Music Award winner known for his high-energy\, banjo-driven stompers\, touching guitar ballads\, and dry\, humorous stories. Old Man Luedecke has been making a soundtrack to an authentic life for nearly twenty years. \n\n\n\n\n\n\n\n\n\n\n\nBorn in Toronto and long-time resident of the country near Chester\, Nova Scotia\, Luedecke began recording in the early 2000s DIY folk scene of Halifax. He made his two JUNO-winning albums for Black Hen Music in the late ‘00s\, with Steve Dawson as producer\, at Vancouver’s famed Factory studio. Luedecke has kept up many worldwide concert appearances\, playing in Europe and around Canada and the USA\, and six trips to Australia\, including a memorable tour where his whole young family travelled with him around rural Queensland for the Festival of Small Halls. \n\n\n\nAnd A Special NWT Collaboration with Pat Braden and Norman Glowach \n\n\n\n\n\n\n\n\n\n\nThis event is organized by:
URL:https://naccnt.ca/event/matt-andersen/2025-10-17/
LOCATION:Northern Arts and Cultural Centre (NACC)\, 4701 52nd Ave\, Yellowknife\, NT\, X1A 2N7\, Canada
CATEGORIES:NACC Presents,Special Shows,Yellowknife
ATTACH;FMTTYPE=image/jpeg:https://naccnt.ca/wp-content/uploads/2025/09/mattandersenspektrix.jpg
END:VEVENT
BEGIN:VEVENT
DTSTART;TZID=America/Edmonton:20251018T193000
DTEND;TZID=America/Edmonton:20251018T193000
DTSTAMP:20260420T050147
CREATED:20250815T220000Z
LAST-MODIFIED:20250920T010508Z
UID:10000237-1760815800-1760815800@naccnt.ca
SUMMARY:Matt Andersen
DESCRIPTION:With Opening Act Old Man Luedecke! \n\n\n\n\n\n\n\nWhen Matt Andersen steps on stage\, he brings a lifetime of music to every note he plays. His latest album\, The Hammer & The Rose\, is a veritable garden of heart; a (mostly) delicate collection of tender folk and stirring soul numbers that find the New Brunswick-born songwriter thoughtfully tending to the most important things in life. Andersen’s stage presence is informed by decades of cutting his teeth in dusty clubs\, dim-lit bars\, and grand theatres all over the world\, delivering moving performances that run the gamut from intimate to wall-shaking. In the studio\, he’s always brought the same attention to detail and commitment to craft as he has to his live show. The result is a multi-faceted and poignant body of work\, which has led him to amass over 33 million streams on Spotify and 30 million views on YouTube. \n\n\n\nIn addition to headlining major festivals\, clubs and theatres throughout North America\, Europe\, and Australia\, he has shared the stage and toured with Marcus King\, Beth Hart\, Marty Stuart\, Greg Allman\, Tedeschi Trucks Band\, Randy Bachman\, Serena Ryder\, Tab Benoit\, and more. \n\n\n\nAndersen nabbed the 2013 and 2016 European Blues Awards for Best Solo/Acoustic Act\, was the first ever Canadian to take home top honours in the solo category at the 2010 International Blues Challenge in Memphis\, won the CIMA Road Gold award in 2015\, and has won multiple Maple Blues Awards. Matt Andersen & The Big Bottle of Joy was nominated for a Juno Award in 2024. \n\n\n\n\n\n\n\n\n\n\n\n\n\n\n\n\n\n\n\n\n\n\n\n\n\n\n\nBack Again in the NWT As the Opening Act: Old Man Luedecke \n\n\n\nOld Man Luedecke is the recording and performing name of two-time JUNO award-winning and Polaris prize-nominated singer/songwriter Chris Luedecke. He’s a multiple East Coast Music Award winner known for his high-energy\, banjo-driven stompers\, touching guitar ballads\, and dry\, humorous stories. Old Man Luedecke has been making a soundtrack to an authentic life for nearly twenty years. \n\n\n\n\n\n\n\n\n\n\n\nBorn in Toronto and long-time resident of the country near Chester\, Nova Scotia\, Luedecke began recording in the early 2000s DIY folk scene of Halifax. He made his two JUNO-winning albums for Black Hen Music in the late ‘00s\, with Steve Dawson as producer\, at Vancouver’s famed Factory studio. Luedecke has kept up many worldwide concert appearances\, playing in Europe and around Canada and the USA\, and six trips to Australia\, including a memorable tour where his whole young family travelled with him around rural Queensland for the Festival of Small Halls. \n\n\n\nAnd A Special NWT Collaboration with Pat Braden and Norman Glowach \n\n\n\n\n\n\n\n\n\n\nThis event is organized by:
URL:https://naccnt.ca/event/matt-andersen/2025-10-18/
LOCATION:Northern Arts and Cultural Centre (NACC)\, 4701 52nd Ave\, Yellowknife\, NT\, X1A 2N7\, Canada
CATEGORIES:NACC Presents,Special Shows,Yellowknife
ATTACH;FMTTYPE=image/jpeg:https://naccnt.ca/wp-content/uploads/2025/09/mattandersenspektrix.jpg
END:VEVENT
BEGIN:VEVENT
DTSTART;TZID=America/Edmonton:20251024T193000
DTEND;TZID=America/Edmonton:20251024T193000
DTSTAMP:20260420T050147
CREATED:20250815T220000Z
LAST-MODIFIED:20250812T152836Z
UID:10000230-1761334200-1761334200@naccnt.ca
SUMMARY:Sound of Music Sing-A-Long
DESCRIPTION:In 1930s Austria\, a young woman named Maria is failing miserably in her attempts to become a nun. When Navy Captain Georg Von Trapp writes to the abbey requesting a governess that can handle his seven mischievous children\, Maria is given the job. Over time\, he and Maria find themselves falling in love\, despite his engagement to a Baroness named Elsa and Maria’s status as a postulant. However\, their personal conflicts soon become overshadowed by the unfolding world events. \n\n\n\n\n\n\n\n\n\n\n\n\n\n\n\n\nThis event is organized by:
URL:https://naccnt.ca/event/sound-of-music-sing-a-long/
LOCATION:Northern Arts and Cultural Centre (NACC)\, 4701 52nd Ave\, Yellowknife\, NT\, X1A 2N7\, Canada
CATEGORIES:NACC Presents,Yellowknife
ATTACH;FMTTYPE=image/jpeg:https://naccnt.ca/wp-content/uploads/2025/07/sound-of-music-spektrix.jpg
END:VEVENT
END:VCALENDAR