BEGIN:VCALENDAR
VERSION:2.0
PRODID:-//Northern Arts &amp; Cultural Centre - ECPv6.13.2//NONSGML v1.0//EN
CALSCALE:GREGORIAN
METHOD:PUBLISH
X-WR-CALNAME:Northern Arts &amp; Cultural Centre
X-ORIGINAL-URL:https://naccnt.ca
X-WR-CALDESC:Events for Northern Arts &amp; Cultural Centre
REFRESH-INTERVAL;VALUE=DURATION:PT1H
X-Robots-Tag:noindex
X-PUBLISHED-TTL:PT1H
BEGIN:VTIMEZONE
TZID:America/Edmonton
BEGIN:DAYLIGHT
TZOFFSETFROM:-0700
TZOFFSETTO:-0600
TZNAME:MDT
DTSTART:20250309T090000
END:DAYLIGHT
BEGIN:STANDARD
TZOFFSETFROM:-0600
TZOFFSETTO:-0700
TZNAME:MST
DTSTART:20251102T080000
END:STANDARD
END:VTIMEZONE
BEGIN:VEVENT
DTSTART;TZID=America/Edmonton:20251122T193000
DTEND;TZID=America/Edmonton:20251122T193000
DTSTAMP:20260420T032522
CREATED:20251106T193210Z
LAST-MODIFIED:20251118T183657Z
UID:10000284-1763839800-1763839800@naccnt.ca
SUMMARY:Diana Rockwell
DESCRIPTION:Presented As part of the Northern Spark Emerging Artist Series\n\n\n\nA Collaboration Between NACC and The UNDerground\n\n\n\n\n\n\n\nAward-winning classical soprano Diana Rockwell returns to the North fresh from her Masters studies at the University of Manitoba with soprano Tracy Dahl. A dynamic and versatile performer\, she has graced Yellowknife stages as an actor\, dancer\, singer and instrumentalist for many years. Before making her solo debut with the Winnipeg Symphony Orchestra in Fall of 2024 and claiming the Madeleine Gauvin Scholarship with the Women’s Musical Club of Winnipeg and the Rose Bowl Trophy with the Winnipeg Music Festival in 2024\, she was the first person from the NWT to win the Canadian Federation of Music Teachers Association’s National Vocal Competition in 2023. During her musical studies\, she took part in both Edmonton and Manitoba Opera’s choruses\, and has performed roles such as Fiordiligi in Così fan tutte with Summer Opera Lyric Theatre\, Erste Dame in Die Zauberflöte and Mère Marie in Dialogues des Carmélites (excerpts) with University of Manitoba\, Frederic from The Pirates of Penzance and La Contessa from Le nozze di Figaro (excerpts)\, with University of Alberta’s Opera Theatre\, and Phoebe Dy’Squith in A Gentleman’s Guide to Love and Murder with NUOVA Vocal Arts. Yellowknife audiences of all ages may recognize her from her recent school concert tour “Kings\, Queens & Pheasants” in Fall of 2025\, and Yellowknife Youth Choir’s “Opera Stars” concert in Spring of 2025. \n\n\n\nMust be 19+ \n\n\n\n\n\n\n\n\n\n\n\n\n\n\n\n\nThis event is organized by:
URL:https://naccnt.ca/event/diana-rockwell/
LOCATION:The Underground\, 4910 Franklin Ave\, Yellowknife\, NT\, Canada
CATEGORIES:NACC Presents,Yellowknife
ATTACH;FMTTYPE=image/jpeg:https://naccnt.ca/wp-content/uploads/2025/11/dianarockwell.jpg
END:VEVENT
END:VCALENDAR