BEGIN:VCALENDAR
VERSION:2.0
PRODID:-//Northern Arts &amp; Cultural Centre - ECPv6.13.2//NONSGML v1.0//EN
CALSCALE:GREGORIAN
METHOD:PUBLISH
X-WR-CALNAME:Northern Arts &amp; Cultural Centre
X-ORIGINAL-URL:https://naccnt.ca
X-WR-CALDESC:Events for Northern Arts &amp; Cultural Centre
REFRESH-INTERVAL;VALUE=DURATION:PT1H
X-Robots-Tag:noindex
X-PUBLISHED-TTL:PT1H
BEGIN:VTIMEZONE
TZID:America/Edmonton
BEGIN:DAYLIGHT
TZOFFSETFROM:-0700
TZOFFSETTO:-0600
TZNAME:MDT
DTSTART:20260308T090000
END:DAYLIGHT
BEGIN:STANDARD
TZOFFSETFROM:-0600
TZOFFSETTO:-0700
TZNAME:MST
DTSTART:20261101T080000
END:STANDARD
END:VTIMEZONE
BEGIN:VEVENT
DTSTART;TZID=America/Edmonton:20260131T133000
DTEND;TZID=America/Edmonton:20260131T133000
DTSTAMP:20260420T095428
CREATED:20250815T220000Z
LAST-MODIFIED:20250812T152912Z
UID:10000231-1769866200-1769866200@naccnt.ca
SUMMARY:Moana Sing-A-Long
DESCRIPTION:An adventurous teenager sails out on a daring mission to save her people. During her journey\, Moana meets the once-mighty demigod Maui\, who guides her in her quest to become a master way-finder. Together they sail across the open ocean on an action-packed voyage\, encountering enormous monsters and impossible odds. Along the way\, Moana fulfills the ancient quest of her ancestors and discovers the one thing she always sought: her own identity. \n\n\n\n\n\n\n\n\n\n\n\n\n\n\n\n\nThis event is organized by:
URL:https://naccnt.ca/event/moana-sing-a-long/
LOCATION:Northern Arts and Cultural Centre (NACC)\, 4701 52nd Ave\, Yellowknife\, NT\, X1A 2N7\, Canada
CATEGORIES:NACC Presents,Yellowknife
ATTACH;FMTTYPE=image/jpeg:https://naccnt.ca/wp-content/uploads/2025/07/moana-spektrix.jpg
END:VEVENT
BEGIN:VEVENT
DTSTART;TZID=America/Edmonton:20260131T193000
DTEND;TZID=America/Edmonton:20260131T193000
DTSTAMP:20260420T095428
CREATED:20260108T224627Z
LAST-MODIFIED:20260108T232007Z
UID:10000291-1769887800-1769887800@naccnt.ca
SUMMARY:Tyler Hawkins in Norman Wells
DESCRIPTION:Yellowknife’s own Tyler Hawkins\, recognized for his versatile guitarist work\, levels up with this rare performance on his Baroque Lute featuring the music of Weiss\, Bach and Gauthier. He received a BFA Honours in Performance on multi-string classical guitars (1990) and later released both online and CD versions of Tyler Hawkins – Bach on Seventeen Strings (2007) and Georg Philipp Telemann Lute Duets for Classical Guitar – Tyler Hawkins & Christopher Irvine (2009). \n\n\n\nAs director of the NWT International Lute Festival (2007 – 2017) he became immersed into the fascinating and very real world of early music\, having commissioned a period accurate replica 13 course Sebastian Schelle baroque lute\, hand made by the luthier duo Barber & Harris in London England\, 2011. For this life-long guitarist the migration to lute has been an ultimate game changer giving way to an exciting new trajectory. \n\n\n\n\n\n\n\n\n\n\n\n\n\n\n\n\nThis event is organized by:
URL:https://naccnt.ca/event/tyler-hawkins-in-norman-wells/
LOCATION:Royal Canadian Legion\, 25 MacKenzie Dr\, Norman Wells\, NT\, X0E 0V0\, Canada
CATEGORIES:NACC Presents,Norman Wells,Season Shows
ATTACH;FMTTYPE=image/jpeg:https://naccnt.ca/wp-content/uploads/2026/01/tylerhawkins.jpg
END:VEVENT
BEGIN:VEVENT
DTSTART;TZID=America/Edmonton:20260214T193000
DTEND;TZID=America/Edmonton:20260214T193000
DTSTAMP:20260420T095428
CREATED:20250815T220000Z
LAST-MODIFIED:20250812T152925Z
UID:10000241-1771097400-1771097400@naccnt.ca
SUMMARY:Alteration
DESCRIPTION:How do our lives intertwine? How do we manage to prosperous balances? What happens when they break down? Alteration addresses the transformations that punctuate our lives and our abilities to influence our own destiny and that of others. Aly Keita depicts an oscillating humanity on an intimate and societal level\, between stability and uncertainty\, anchoring and uprooting\, change and resistance\, renewal and repetition. The relationship with the other and the complexity of ties lead to the need to hear and rebuild our relationship with ourselves and with our environment. Exploring the meaning of relationships in our society in a wide-ranging way\, both interpersonal relationships and those with other-than-human beings\, this work opens the way to the construction of possible new links that are formed through ecological and spiritual dimensions. Here\, life takes the form of a cycle of transformations. Memories of past experiences and scars – in other words\, alteration – are transmuted into a vital breath through reactivating movements\, both individual and collective\, that revitalize our bodies and rekindle our inner power. \n\n\n\nThis show includes the use of smoke\, which may persist throughout the performance. In addition\, vibrating sounds and low frequencies are used\, which may cause physical sensations. Please take this into account if you are sensitive to these effects. \n\n\n\n\n\n\n\n\n\n\n\n\n\n\n\nThis multi-arts work is as much a choreographic piece as a circus piece\, a musical work as well as a work of visual art. Martin Bellemare (Note d’intention)\n\n\n\n\n\nKira is a word in Sousou\, the language of Guinea\, meaning “path”. It evokes the idea that life is a path where we walk\, gather\, and unite. Founded in 2023\, Kira Arts creates staged works that bring together different artistic practices on equal footing and promote intercultural dialogue. In this way\, they cultivate an inclusive and diverse environment based on principles of knowledge sharing and collaboration. Their artistic approach focuses on mediation as a field for research and creation. When selecting collaborators\, it is essential that each artist possess a deep understanding of the body\, rhythm\, and movement. The uniqueness of each body and individual is a tool that can enrich shared creation. Their approach is to invite artists to embody the multiple interpretations of a single event.  \n\n\n\n\n\n\n\n\n\n\n\n\n\n\n\n\n\n\n\n\n\n\nThis event is organized by:
URL:https://naccnt.ca/event/alteration/
LOCATION:Northern Arts and Cultural Centre (NACC)\, 4701 52nd Ave\, Yellowknife\, NT\, X1A 2N7\, Canada
CATEGORIES:NACC Presents,Season Shows,Yellowknife
ATTACH;FMTTYPE=image/jpeg:https://naccnt.ca/wp-content/uploads/2025/08/alteration-spektrix.jpg
END:VEVENT
BEGIN:VEVENT
DTSTART;TZID=America/Edmonton:20260228T193000
DTEND;TZID=America/Edmonton:20260228T193000
DTSTAMP:20260420T095428
CREATED:20250815T220000Z
LAST-MODIFIED:20250812T152947Z
UID:10000242-1772307000-1772307000@naccnt.ca
SUMMARY:Brett Hansen's Confluence
DESCRIPTION:Presented In Collaboration With \n\n\n\n\n\n\n\n\n\n\n\nA six-person ensemble featuring some of Canada’s greatest Jazz musicians \n\n\n\nPossessing “one of the purest sounds on the six string” (The Listening Sessions)\, guitarist-composer Brett Hansen has boldly stepped out from his work as one of Canada’s first-call session musicians with a striking debut album of his own\, Confluence. Hansen’s compositions showcase his fleet technical skill and cinematic sonic palate\, but perhaps most notable is his emotional and dynamic capacity to tell stories without words. Influences from his work in folk\, rock\, jazz\, and orchestral ensembles shine across the album\, which has remained on the international jazz charts since its release in 2024 and has garnered critical acclaim\, drawing comparison to Pat Metheny and John Abercrombie. Brett Hansen has studied with the likes of Mike Stern\, Julian Lage\, Oz Noy\, Matthew Stevens\, Nir Felder\, Jim Head\, and Rez Abassi. He performs regularly as a part of the Edmonton Symphony Orchestra\, has toured internationally through Asia\, Europe\, and Canada\, and has performed on hundreds of recordings across genres with some of Canada’s finest musicians across many genres of music. Without a doubt\, Brett Hansen a guitarist “deserving of your attention” (The Intelligencer). \n\n\n\nBrett Hansen’s Confluence is a live show experience that brings together folk-inspired sensitivity\, muscular rock phrases\, and Latin rhythms to conjure a sound both atmospheric and powerful\, while showcasing a six-person ensemble featuring some of Canada’s finest jazz musicians: Mallory Chipman on vocals\, Luis Tovar on percussion\, Murray Wood on bass\, Joel Jeschke on drums\, and Chris Pruden on keyboards.  \n\n\n\nDrawing comparison to the likes of Pat Metheny and John Abercrombie\, Brett’s skills as a guitarist are only met by his expressivity as a composer\, weaving together years of influence and experience from his work as a side person with award-winning and internationally touring ensembles across genres\, and resulting in a sound that is simultaneously sophisticated and raw.​ \n\n\n\n\n\n\n\n\n\n\n\n\n\n\n\nTender yet fierce… relatable yet fresh… Confluence showcases Brett’s focus on lyricism in both writing and performance while showcasing traits of modern jazz/improvised music with contemporary production techniques. \n\n\n\n\n\n\n\n\nThis event is organized by:
URL:https://naccnt.ca/event/brett-hansens-confluence/
LOCATION:Northern Arts and Cultural Centre (NACC)\, 4701 52nd Ave\, Yellowknife\, NT\, X1A 2N7\, Canada
CATEGORIES:NACC Presents,Season Shows,Yellowknife
ATTACH;FMTTYPE=image/jpeg:https://naccnt.ca/wp-content/uploads/2025/08/confluencespektrix.jpg
END:VEVENT
BEGIN:VEVENT
DTSTART;TZID=America/Edmonton:20260307T223000
DTEND;TZID=America/Edmonton:20260307T223000
DTSTAMP:20260420T095428
CREATED:20260123T000905Z
LAST-MODIFIED:20260213T185836Z
UID:10000296-1772922600-1772922600@naccnt.ca
SUMMARY:Hughes
DESCRIPTION:Presented As part of the Northern Spark Emerging Artist Series\n\n\n\nA Collaboration Between NACC and The UNDerground\n\n\n\n\n\n\n\nHughes is the folk‑alt‑country project of Yellowknife musician Benji Straker. Blending folk\, alt‑country\, and indie sensibilities\, Hughes creates music that is honest\, atmospheric\, and deeply personal. The project draws inspiration from the stark beauty of the North and the quiet complexities of lived experience\, offering listeners space to reflect\, breathe\, and connect. \n\n\n\nWith textured arrangements\, intimate lyrics\, and a grounded sense of place\, Hughes crafts soundscapes that feel both expansive and close to home. The self‑titled debut full‑length album\, released in July 2025\, captures the heart of the project’s sound — vulnerable\, spacious\, and rooted in the lived‑in details of northern life and relationships. \n\n\n\nMust be 19+ \n\n\n\n\n\n\n\n\n\n\n\n\n\n\n\n\nThis event is organized by:
URL:https://naccnt.ca/event/hughes/
LOCATION:The Underground\, 4910 Franklin Ave\, Yellowknife\, NT\, Canada
CATEGORIES:NACC Presents,Yellowknife
ATTACH;FMTTYPE=image/png:https://naccnt.ca/wp-content/uploads/2026/01/newhughesspektrix.png
END:VEVENT
BEGIN:VEVENT
DTSTART;TZID=America/Edmonton:20260312T193000
DTEND;TZID=America/Edmonton:20260312T193000
DTSTAMP:20260420T095428
CREATED:20250815T220000Z
LAST-MODIFIED:20250812T152956Z
UID:10000233-1773343800-1773343800@naccnt.ca
SUMMARY:Chicago Sing-A-Long
DESCRIPTION:When nightclub sensation Velma murders her philandering husband\, Chicago’s slickest lawyer Billy Flynn is set to defend her. But when Roxie also winds up in prison\, Billy takes on her case too and turns her into a media sensation. The two death-row murderesses develop a fierce rivalry while competing for publicity\, celebrity\, and a sleazy lawyer’s attention. \n\n\n\n\n\n\n\n\n\n\n\n\n\n\n\n\nThis event is organized by:
URL:https://naccnt.ca/event/chicago-sing-a-long/
LOCATION:Northern Arts and Cultural Centre (NACC)\, 4701 52nd Ave\, Yellowknife\, NT\, X1A 2N7\, Canada
CATEGORIES:NACC Presents,Yellowknife
ATTACH;FMTTYPE=image/jpeg:https://naccnt.ca/wp-content/uploads/2025/07/chicago-singalong.jpg
END:VEVENT
BEGIN:VEVENT
DTSTART;TZID=America/Edmonton:20260327T193000
DTEND;TZID=America/Edmonton:20260327T193000
DTSTAMP:20260420T095428
CREATED:20260113T173114Z
LAST-MODIFIED:20260113T174107Z
UID:10000294-1774639800-1774639800@naccnt.ca
SUMMARY:Degrees of Separation
DESCRIPTION:An Adaptation By \n\n\n\n\n\n\n\n\n\n\n\nTinged with Alison McCreesh’s signature blend of humour and humanity\, Degrees of Separation is a story of the North and transformation. Following Alison’s personal journey from young adulthood to motherhood\, the piece explores themes of connection\, change\, and anxiety told through the unique lens of a Northern life. \n\n\n\nThe Tin Can Collective’s new staged adaptation brings McCreesh’s story to life\, celebrating lived experiences of the North and the impact of female friendships during these pivotal years\, and featuring a score composed by Yellowknife’s own Grace Clark.  \n\n\n\nFormed in 2024\, The Tin Can Collective is an emerging multidisciplinary performance collective\, guided by new ideas\, connection\, and community-driven storytelling based in the NWT.  The Tin Can Collective was formed by Gwenan Guillas-Letain\, Kacie Hall\, and Sophie Rivers.  \n\n\n\n\n\n\n\n\n\n\n\n\n\n\n\nThe tension between free-spirited off-grid living and prosaic adult responsibility runs through Alison McCreesh’s tender and loving ode to the people and landscapes of the far North. Joe Sacco\, Paying the Land on “Degrees of Separation: A Decade North of 60” by Alison McCreesh\n\n\n\n\n\nAbout Alison McCreesh \n\n\n\nAlison is a Yellowknife-based graphic novelist\, illustrator and fibre artist. Over almost two decades in the North\, Alison has enjoyed numerous opportunities to travel the Arctic and Sub-Arctic – experiences which have greatly influenced her creative work. Since 2015\, Alison has published three graphic novels\, all of which explore aspects of contemporary day-to-day life north of the 60th parallel.  Her most recent book\, ‘Degrees of Separation: A Decade North of 60’\, was released in April 2024 and was named one of the Best Canadian Comics of 2024 by CBC Books.  It also earned Alison invitations to be a guest author at several literary festivals such as the Vancouver Writers Festival\, the Toronto Comic Arts Festival and the Stockholm International Comics Festival. Most recently\, “Degrees of Separation” has been nominated for a 2025 Eisner Award in the “Best Graphic Memoir” category. \n\n\n\n\n\n\n\n\n\n\n\nThe staged adaptation of Degrees of Separation is produced with support from the GNWT Arts Council. \n\n\n\n\n\n\n\n\nThis event is organized by:
URL:https://naccnt.ca/event/degrees-of-separation-2/
LOCATION:Northern Arts and Cultural Centre (NACC)\, 4701 52nd Ave\, Yellowknife\, NT\, X1A 2N7\, Canada
CATEGORIES:NACC Presents,Season Shows,Yellowknife
ATTACH;FMTTYPE=image/jpeg:https://naccnt.ca/wp-content/uploads/2025/08/degrees-spektrix.jpg
END:VEVENT
BEGIN:VEVENT
DTSTART;TZID=America/Edmonton:20260328T193000
DTEND;TZID=America/Edmonton:20260328T193000
DTSTAMP:20260420T095428
CREATED:20250815T220000Z
LAST-MODIFIED:20260113T174155Z
UID:10000243-1774726200-1774726200@naccnt.ca
SUMMARY:Degrees of Separation
DESCRIPTION:An Adaptation By \n\n\n\n\n\n\n\n\n\n\n\nTinged with Alison McCreesh’s signature blend of humour and humanity\, Degrees of Separation is a story of the North and transformation. Following Alison’s personal journey from young adulthood to motherhood\, the piece explores themes of connection\, change\, and anxiety told through the unique lens of a Northern life. \n\n\n\nThe Tin Can Collective’s new staged adaptation brings McCreesh’s story to life\, celebrating lived experiences of the North and the impact of female friendships during these pivotal years\, and featuring a score composed by Yellowknife’s own Grace Clark.  \n\n\n\nFormed in 2024\, The Tin Can Collective is an emerging multidisciplinary performance collective\, guided by new ideas\, connection\, and community-driven storytelling based in the NWT.  The Tin Can Collective was formed by Gwenan Guillas-Letain\, Kacie Hall\, and Sophie Rivers.  \n\n\n\n\n\n\n\n\n\n\n\n\n\n\n\nThe tension between free-spirited off-grid living and prosaic adult responsibility runs through Alison McCreesh’s tender and loving ode to the people and landscapes of the far North. Joe Sacco\, Paying the Land on “Degrees of Separation: A Decade North of 60” by Alison McCreesh\n\n\n\n\n\nAbout Alison McCreesh \n\n\n\nAlison is a Yellowknife-based graphic novelist\, illustrator and fibre artist. Over almost two decades in the North\, Alison has enjoyed numerous opportunities to travel the Arctic and Sub-Arctic – experiences which have greatly influenced her creative work. Since 2015\, Alison has published three graphic novels\, all of which explore aspects of contemporary day-to-day life north of the 60th parallel.  Her most recent book\, ‘Degrees of Separation: A Decade North of 60’\, was released in April 2024 and was named one of the Best Canadian Comics of 2024 by CBC Books.  It also earned Alison invitations to be a guest author at several literary festivals such as the Vancouver Writers Festival\, the Toronto Comic Arts Festival and the Stockholm International Comics Festival. Most recently\, “Degrees of Separation” has been nominated for a 2025 Eisner Award in the “Best Graphic Memoir” category. \n\n\n\n\n\n\n\n\n\n\n\nThe staged adaptation of Degrees of Separation is produced with support from the GNWT Arts Council. \n\n\n\n\n\n\n\n\nThis event is organized by:
URL:https://naccnt.ca/event/degrees-of-separation/
LOCATION:Northern Arts and Cultural Centre (NACC)\, 4701 52nd Ave\, Yellowknife\, NT\, X1A 2N7\, Canada
CATEGORIES:NACC Presents,Season Shows,Yellowknife
ATTACH;FMTTYPE=image/jpeg:https://naccnt.ca/wp-content/uploads/2025/08/degrees-spektrix.jpg
END:VEVENT
BEGIN:VEVENT
DTSTART;TZID=America/Edmonton:20260417T193000
DTEND;TZID=America/Edmonton:20260417T193000
DTSTAMP:20260420T095428
CREATED:20260306T230949Z
LAST-MODIFIED:20260306T230953Z
UID:10000304-1776454200-1776454200@naccnt.ca
SUMMARY:Effortless
DESCRIPTION:Presented As part of the Northern Spark Emerging Artist Series\n\n\n\nA Collaboration Between NACC and The UNDerground\n\n\n\n\n\n\n\nEffortless is a collection of short contemporary dance works created by professional and emerging choreographers based in Yellowknife. This one-time performance calls into question the idea that dance is simply “beautiful” or easy; revealing the labour\, risk\, and creative process beneath what appears seamless on stage. \n\n\n\nFeaturing choreography by Fia Grogono\, Tomiko Robson\, Jordyn Riou\, and Benjamin Mujuni\, Effortless offers audiences an investigation into how movement stories are built\, shaped\, and refined. \n\n\n\nA Q&A with the artists will follow the performance. Choreography: Haha (Fia Grogono)\, Big Monster (Fia Grogono\, Jordyn Riou)\, Masc Masks (Tomiko Robson)\, Silence (Benjamin Mujuni)\, Fantasmagoria (Fia Grogono\, Benjamin Mujuni\, Tomiko Robson)Cast: Ady McLeod\, Benjamin Mujuni\, Fia Grogono\, Johanna Tiemessen\, Jordyn Riou\, Karen Wasicuna\, Katie Schauerte\, and Tomiko Robson \n\n\n\nMust be 19+ \n\n\n\n\n\n\n\n\n\n\n\n\n\n\n\n\nThis event is organized by:
URL:https://naccnt.ca/event/effortless/
LOCATION:The Underground\, 4910 Franklin Ave\, Yellowknife\, NT\, Canada
CATEGORIES:NACC Presents,Yellowknife
ATTACH;FMTTYPE=image/png:https://naccnt.ca/wp-content/uploads/2026/03/effortlesspektrix.png
END:VEVENT
BEGIN:VEVENT
DTSTART;TZID=America/Edmonton:20260509T193000
DTEND;TZID=America/Edmonton:20260509T193000
DTSTAMP:20260420T095428
CREATED:20250815T220058Z
LAST-MODIFIED:20260213T173018Z
UID:10000244-1778355000-1778355000@naccnt.ca
SUMMARY:Juliet & Romeo
DESCRIPTION:This Lost Dog show reveals the real story of Romeo and Juliet. It turns out they didn’t die in a tragic misunderstanding; they grew up and lived happily ever after. \n\n\n\nWell\, they lived.  \n\n\n\nNow in their 40s and struggling with a mid-life crisis\, they feel constantly mocked by their teenage selves and haunted by the pressures of being the poster couple for romantic love. They decide to confront their current struggles by staging a performance about themselves. Their therapist told them it was a terrible idea.  \n\n\n\nWith Lost Dog’s blend of dance\, theatre\, and comedy\, this duet directed by Olivier Award nominated Ben Duke takes on our cultural obsession with youth and our inevitable issues with longevity.  \n\n\n\n\n\n\n\n\n\n\n\n\n\n\n\nComic awkwardness tipping into vulnerable emotion is a hallmark of Ben Duke’s work. The Independent\n\n\n\n\n\nBen is Artistic Director and co-founder of Lost Dog. He trained at Guildford School of Acting\, the London Contemporary Dance School and has a first-class degree in English Literature from Newcastle University. His work is an attempt to reconcile those three subjects. \n\n\n\nIn 1997 Ben saw Alain Platel’s show Bernadetje at the Newcastle Playhouse and has since been trying to recreate the feeling of confusion and joy he had while watching that piece in his own artistic practice. Most of his artistic output has been within Lost Dog. \n\n\n\n\n\n\n\n\n\n\n\n\n\n\n\n\n\n\n\n\n\n\nThis event is organized by:
URL:https://naccnt.ca/event/juliet-romeo/
LOCATION:Northern Arts and Cultural Centre (NACC)\, 4701 52nd Ave\, Yellowknife\, NT\, X1A 2N7\, Canada
CATEGORIES:NACC Presents,Season Shows,Yellowknife
ATTACH;FMTTYPE=image/jpeg:https://naccnt.ca/wp-content/uploads/2025/08/julietandromeospektrix.jpg
END:VEVENT
BEGIN:VEVENT
DTSTART;TZID=America/Edmonton:20260516T193000
DTEND;TZID=America/Edmonton:20260516T193000
DTSTAMP:20260420T095428
CREATED:20250815T220000Z
LAST-MODIFIED:20250812T214834Z
UID:10000245-1778959800-1778959800@naccnt.ca
SUMMARY:TRANSHUMANIST / SUPERHUMAN
DESCRIPTION:NEXT ZONE is a Denmark based company working with OPEN STYLE DANCE.  Choreographer Lene Boel works with dancers from different street dance backgrounds such as popping\, locking\, electro\, break dance\, hip hop\, and new circus. She creates a distinct choreographic language which is unique for each production and very visceral. The pieces challenge the language of the human body and what it can express through very articulated and highly physical dance. Dealing with contemporary themes interlacing with the past\, present\, and future the performances communicate to audience of all ages through non-verbal movement\, original music\, and sustainable atmospheric light.  \n\n\n\nTRANSHUMANIST features two dancers balancing between both the artificial and the human\, and between machine and human. It explores the upgrading of the human body and mind in extremely articulated body language. \n\n\n\nSUPERHUMAN explores the limits for the capacities of the human body in a unique and thought-provoking performance that redefines the human being in new optimised versions. It has already become the everyday to enhance human characteristics artificially and modern science has brought closer the dream of the perfect human being. But what happens to humanity in the future if all humans are optimized with new skills that reaches beyond our current mental and physical capacities? \n\n\n\nThe distinctive choreographic language within the performance builds on explorations of mental states\, translated into extreme physical movements in a fusion of urban dance\, new composed music and atmospheric light. \n\n\n\n\n\n\n\n\n\n\n\n\n\n\n\nIt speaks both to heart and mind to everyone between the ages of 7 and 97. \n\n\n\n\n\n\n\n\n\n\nThis event is organized by:
URL:https://naccnt.ca/event/transhumanist-superhuman/
LOCATION:Northern Arts and Cultural Centre (NACC)\, 4701 52nd Ave\, Yellowknife\, NT\, X1A 2N7\, Canada
CATEGORIES:NACC Presents,Season Shows,Yellowknife
ATTACH;FMTTYPE=image/jpeg:https://naccnt.ca/wp-content/uploads/2025/08/nextzonespektrix.jpg
END:VEVENT
END:VCALENDAR