BEGIN:VCALENDAR
VERSION:2.0
PRODID:-//Northern Arts &amp; Cultural Centre - ECPv6.13.2//NONSGML v1.0//EN
CALSCALE:GREGORIAN
METHOD:PUBLISH
X-ORIGINAL-URL:https://naccnt.ca
X-WR-CALDESC:Events for Northern Arts &amp; Cultural Centre
REFRESH-INTERVAL;VALUE=DURATION:PT1H
X-Robots-Tag:noindex
X-PUBLISHED-TTL:PT1H
BEGIN:VTIMEZONE
TZID:America/Edmonton
BEGIN:DAYLIGHT
TZOFFSETFROM:-0700
TZOFFSETTO:-0600
TZNAME:MDT
DTSTART:20240310T090000
END:DAYLIGHT
BEGIN:STANDARD
TZOFFSETFROM:-0600
TZOFFSETTO:-0700
TZNAME:MST
DTSTART:20241103T080000
END:STANDARD
END:VTIMEZONE
BEGIN:VEVENT
DTSTART;TZID=America/Edmonton:20240301T193000
DTEND;TZID=America/Edmonton:20240301T193000
DTSTAMP:20260420T013511
CREATED:20230922T225320Z
LAST-MODIFIED:20240227T200040Z
UID:10000053-1709321400-1709321400@naccnt.ca
SUMMARY:NACC Presents: NORDTING
DESCRIPTION:THE NORTHERN ASSEMBLY: INDEPENDENCE FOR THE NORTH!IN PARTNERSHIP WITH SNOWKING WINTER FESTIVAL\n\n\n\n\n\n\n\nNORDTING – The Northern Assembly•a nomadic people’s parliament of the North•a party for the periphery•a separatist movement for the Arctic. \n\n\n\nNORDTING is an enthusiastic and challenging mix of a political rally\, gala show and powerpoint lecture. Staged as a peoples’ assembly\, the ambition is to investigate questions concerning power\, identity\, art and economy in a local\, northern context. NORDTING addresses everything from global issues around geopolitics\, climate change and capitalism to very local issues from the place the assembly is held. Everything is adjusted for each new location -there is local history\, local guests and local issues put up for vote. Since the beginning in 2014\, NORDTING has arranged peoples’ assemblies all over the Arctic\, from Alaska to Greenland\, from Iceland to Norway. Thousands of people have made their voices heard. Assemblies have voted yes or no to oil drilling\, fish farming\, mining\, independence for the North\, new street names\, new airline routes\, new national days and taxation of the rich.There has been a lottery\, cheering\, praying\, flagging\, singing\, chanting\, moving\, voting – and thinking about what it means to be an Arctic inhabitant. The point of departure for NORDTING is the North\, but the issues addressed – of power\, economy\, local identity\, ownership to resources\, separatism and populism – are very much global and common for us all.NORDTING is a staged performance that deals with the identity and power structures of the North. NORDTING comes all the way from the other side of the Arctic\, from the North of Norway\, with an amazing\, thought provoking and humorous cocktail of gala show\, powerpoint lecture and community meeting. \n\n\n\nNORDTING will be joined by the following NWT Special Guests: \n\n\n\n\nKaren Single Band\n\n\n\nKiera-Dawn Kolson\n\n\n\nGnarwhal\n\n\n\n\n\n\n\n\n\n\n\n\n\n\n\n\n\n\n\nThis event is organized by:
URL:https://naccnt.ca/event/nacc-prrsents-nordting/
LOCATION:Northern Arts and Cultural Centre (NACC)\, 4701 52nd Ave\, Yellowknife\, NT\, X1A 2N7\, Canada
CATEGORIES:NACC Presents,Season Shows,Yellowknife
ATTACH;FMTTYPE=image/png:https://naccnt.ca/wp-content/uploads/2023/09/nordting-Front-Page-Event-Icon.png
END:VEVENT
BEGIN:VEVENT
DTSTART;TZID=America/Edmonton:20240308T190000
DTEND;TZID=America/Edmonton:20240308T200000
DTSTAMP:20260420T013512
CREATED:20240220T213648Z
LAST-MODIFIED:20240229T211948Z
UID:10000120-1709924400-1709928000@naccnt.ca
SUMMARY:The Aurora Ukrainian Dancers Spring Recital
DESCRIPTION:Event description. \n\n\n\n\n\n\n\n\n\n\n\n\n\n\n\n\nThis event is organized by:
URL:https://naccnt.ca/event/the-aurora-ukrainian-dancers-spring-recital/2024-03-08/
LOCATION:Northern Arts and Cultural Centre (NACC)\, 4701 52nd Ave\, Yellowknife\, NT\, X1A 2N7\, Canada
CATEGORIES:Yellowknife
ATTACH;FMTTYPE=image/png:https://naccnt.ca/wp-content/uploads/2024/02/ukrainian-front-page.png
END:VEVENT
BEGIN:VEVENT
DTSTART;TZID=America/Edmonton:20240309T190000
DTEND;TZID=America/Edmonton:20240309T200000
DTSTAMP:20260420T013512
CREATED:20240220T213648Z
LAST-MODIFIED:20240229T211948Z
UID:10000121-1710010800-1710014400@naccnt.ca
SUMMARY:The Aurora Ukrainian Dancers Spring Recital
DESCRIPTION:Event description. \n\n\n\n\n\n\n\n\n\n\n\n\n\n\n\n\nThis event is organized by:
URL:https://naccnt.ca/event/the-aurora-ukrainian-dancers-spring-recital/2024-03-09/
LOCATION:Northern Arts and Cultural Centre (NACC)\, 4701 52nd Ave\, Yellowknife\, NT\, X1A 2N7\, Canada
CATEGORIES:Yellowknife
ATTACH;FMTTYPE=image/png:https://naccnt.ca/wp-content/uploads/2024/02/ukrainian-front-page.png
END:VEVENT
BEGIN:VEVENT
DTSTART;TZID=America/Edmonton:20240312T193000
DTEND;TZID=America/Edmonton:20240312T193000
DTSTAMP:20260420T013512
CREATED:20230922T225316Z
LAST-MODIFIED:20240214T190314Z
UID:10000042-1710271800-1710271800@naccnt.ca
SUMMARY:NACC Presents: Heart of the Dene Storytelling Festival
DESCRIPTION:Heart of the DeneIN PARTNERSHIP WITH Northwestel\n\n\n\n\n\n\n\nMaggie Mercredi is Denesoline from Gani Koe’ and is a member of the Kai Taile’ Dene First Nation.With a vivid imagination since childhood\, she could visualize the stories heard around her\, understanding them\, then re-sharing them in her own way. She was introduced to the performing arts as a young adult\, inspiring her to learn more about theatre. She joined various performance groups\, became a co-founder of an Indigenous theatre group in the North\,graduated from the Centre for Indigenous Theatre in Toronto\, and completed storytelling and music residencies at the Banff Centre for the Arts. With the skills and knowledge gained\, she has written\, directed\, and produced for many venues. She has also coached groups in theatre and performance skills training. Maggie is honoured and excited with the opportunity to write alongside other artists in bringing alive the stories we carry from our language\,our ancestors\, our parents\, our family\, friends and communities for the future generations to enjoy\,long after we are gone. \n\n\n\nDavid Gon is Tlicho. He was born in Yellowknife and raised in the bush with the traditional way of life. He then moved to Behchoko to start school. He grew up listening to the beat of the drum and watched people dance to the rhythm. He taught himself how to play when he was 12 years old\, on a guitar his father bought him. David later formed a band called ‘Captain Eddy’.David has written his own songs and recorded albums of original music. His music is the expression of the value of the old ways as well as the new\, using the traditional Dene drum\, reflecting early influences and admiration of the wisdom\, stories and songs of the land\,his ancestors\, the Elders and the hopes and dreams of the young people. David has performed at Expo 86 in Vancouver\, at the Canada Winter Games in Cape Breton in 1987\, at Culture Canada in Ottawa in 1988\, and the Arctic Winter Games in 1990. \n\n\n\nCassandra (River) Blondin Burt is a two-spirit Dene Poet\, Artist\, and Earth Medicine Maker. Their work is grounded in the exploration of healing through co-creation with earth and story. Cassandra believes that the radical act of being in-relation to our other-than-human-relations is an act of political and personal rebellion\,and a pathway for collective and personal transformation and healing.Through a deepening relationship with the land-body we call Earth\, Cassandra explores regenerative art and creation praxis that allows them to move through myriad contemporary settler-colonial social structures and ideologies with intent\, and curiosity. \n\n\n\n\n\n\n\n\n\n\n\n\n\n\n\n\n\n\n\n\nThis event is organized by:
URL:https://naccnt.ca/event/nacc-presents-heart-of-the-dene-storytelling-festival/
LOCATION:Northern Arts and Cultural Centre (NACC)\, 4701 52nd Ave\, Yellowknife\, NT\, X1A 2N7\, Canada
CATEGORIES:NACC Presents,Spoken Word and Music Festival,Yellowknife
ATTACH;FMTTYPE=image/png:https://naccnt.ca/wp-content/uploads/2023/09/Storytelling-fest-v.5-e1693941607525.png
END:VEVENT
BEGIN:VEVENT
DTSTART;TZID=America/Edmonton:20240322T190000
DTEND;TZID=America/Edmonton:20240322T190000
DTSTAMP:20260420T013512
CREATED:20240220T214805Z
LAST-MODIFIED:20240221T184957Z
UID:10000105-1711134000-1711134000@naccnt.ca
SUMMARY:Flogg & Schlepp
DESCRIPTION:Yellowknife’s very own Old Town Versifier’s words come to life in Kestrel Puppet Players stage production of Flogg & Schlepp.  Join us for a puppetry romp through a Super Bingo heist cooked up by the scheming minds of James T. Flogg and Nathanial Schlepp. But\, are the cards\, Bingo that is\, stacked against our would-be swindlers…. only time will tell.  So\, grab your daubers for a night of versifying\, original toe-tapping music\, laughs\, and puppet mayhem that will appeal to all you Bingo players at heart. \n\n\n\n\n\n\n\n\n\n\n\n\n\n\n\n\nThis event is organized by:
URL:https://naccnt.ca/event/flogg-schlepp/2024-03-22/
LOCATION:Northern Arts and Cultural Centre (NACC)\, 4701 52nd Ave\, Yellowknife\, NT\, X1A 2N7\, Canada
CATEGORIES:Yellowknife
ATTACH;FMTTYPE=image/png:https://naccnt.ca/wp-content/uploads/2024/02/puppet-players-web.png
END:VEVENT
BEGIN:VEVENT
DTSTART;TZID=America/Edmonton:20240323T190000
DTEND;TZID=America/Edmonton:20240323T190000
DTSTAMP:20260420T013512
CREATED:20240220T214805Z
LAST-MODIFIED:20240221T184957Z
UID:10000106-1711220400-1711220400@naccnt.ca
SUMMARY:Flogg & Schlepp
DESCRIPTION:Yellowknife’s very own Old Town Versifier’s words come to life in Kestrel Puppet Players stage production of Flogg & Schlepp.  Join us for a puppetry romp through a Super Bingo heist cooked up by the scheming minds of James T. Flogg and Nathanial Schlepp. But\, are the cards\, Bingo that is\, stacked against our would-be swindlers…. only time will tell.  So\, grab your daubers for a night of versifying\, original toe-tapping music\, laughs\, and puppet mayhem that will appeal to all you Bingo players at heart. \n\n\n\n\n\n\n\n\n\n\n\n\n\n\n\n\nThis event is organized by:
URL:https://naccnt.ca/event/flogg-schlepp/2024-03-23/
LOCATION:Northern Arts and Cultural Centre (NACC)\, 4701 52nd Ave\, Yellowknife\, NT\, X1A 2N7\, Canada
CATEGORIES:Yellowknife
ATTACH;FMTTYPE=image/png:https://naccnt.ca/wp-content/uploads/2024/02/puppet-players-web.png
END:VEVENT
BEGIN:VEVENT
DTSTART;TZID=America/Edmonton:20240329T193000
DTEND;TZID=America/Edmonton:20240329T193000
DTSTAMP:20260420T013512
CREATED:20240305T225942Z
LAST-MODIFIED:20240312T192316Z
UID:10000103-1711740600-1711740600@naccnt.ca
SUMMARY:Il était une fois\, et alors?
DESCRIPTION:Avis : Spectacle Pour Public AvertiCette représentation\, abordant des thèmes matures\, ne convient pas aux enfants et est recommandée pour un public adulte. \n\n\n\nNotice: Performance for Mature AudiencesThis performance explores mature themes and is not suitable for children. It is recommended for an adult audience. \n\n\n\n\n\n\n\nOyez\, oyez! Le Théâtre du 62e parallèle et l’AFCY sont très fiers de vous convier aux représentations de leur dernière création théâtrale communautaire. \n\n\n\nNe manquez pas « Il était une fois\, et alors? »\, une œuvre originale signée Bruno Tanguy\, jouée par une talentueuse distribution 100 % locale et brillamment mise en scène par Annie Larochelle et Julie Plourde.  \n\n\n\nCette pièce unique en son genre sera jouée au NACC les 29 et 30 mars. Les portes ouvrent à 19 h et le spectacle commence à 19 h 30. \n\n\n\nAVERTISSEMENT\, la pièce est recommandée pour un public adulte; il s’agit d’un spectacle pour public averti abordant des thèmes matures qui ne convient pas aux enfants.  \n\n\n\nSYNOPSIS : Bien des années se sont écoulées depuis que Blanche-Neige a croqué sa pomme\, que Cendrillon a retrouvé son soulier\, et que Belle a épousé sa Bête et Peau d’Âne\, son prince. Que sont devenues les princesses des contes de fées de notre enfance? À l’occasion de l’anniversaire de Blanche-Neige\, les princesses sont réunies : Peau d’âne en robe soleil est restée ingénue\, alors que Belle se débat avec les mauvaises habitudes de son époux la Bête et que Cendrillon est devenue la reine du jetset. Entre disputes et règlement de compte\, qui sortira vainqueur? Surtout lorsque la Méchante Reine et la fée Clochette s’en mêlent… \n\n\n\nDISTRIBUTION : Jessica Fortin (Blanche Neige)\, Anna Leung (Cendrillon)\, Geneviève Charron (Peau d’Âne)\, Valérie Garçon (Belle)\, Marjolaine Chevet (La Méchante Reine)\, Laurence Bonin (Clochette)\, Xavier Dencausse (Miroir)\, et Stéphane Poulin (Grincheux). \n\n\n\nIMPORTANT : Veuillez noter que cette pièce est intégralement interprétée en français sans sous-titres. Nous vous encourageons néanmoins vivement à initier vos amis\, qui ne maîtrisent peut-être pas parfaitement le français\, à cette expérience théâtrale unique. Nous sommes convaincus que la beauté et l’émotion véhiculées par une performance live sont universellement accessibles et appréciables. Au plaisir de vous accueillir ! \n\n\n\n\n\n\n\nIMPORTANT : Please note\, this play is presented entirely in French and does not offer subtitles. While this might pose a challenge for non-native speakers to understand every detail\, we encourage you to attend and immerse yourself in the theatrical experience. We believe the beauty and emotion of live performance can be appreciated by all. We hope to see you there! \n\n\n\nHear ye\, hear ye! Le Théâtre du 62e parallèle and the AFCY are very proud to invite you to the performances of their latest community theatrical creation. \n\n\n\nDon’t miss « Il était une fois\, et alors? »\, an original work by Bruno Tanguy\, performed by a talented 100% local cast and brilliantly directed by Annie Larochelle and Julie Plourde. \n\n\n\nThis one-of-a-kind play will be performed at the NACC on March 29 and 30. Doors open at 7 p.m.\, and the show starts at 7:30 p.m. \n\n\n\nWARNING\, the play is recommended for an adult audience; it is a performance for mature audiences addressing themes not suitable for children. \n\n\n\nSYNOPSIS: Many years have passed since Snow White bit her apple\, Cinderella found her slipper\, and Beauty married her Beast and Donkeyskin\, her prince. What have become of the fairy tale princesses of our childhood? On the occasion of Snow White’s birthday\, the princesses are reunited: Donkeyskin in her sun dress remains naive\, while Beauty struggles with her husband the Beast’s bad habits and Cinderella has become the queen of the jet set. Among disputes and settling scores\, who will emerge victorious? Especially when the Evil Queen and Tinker Bell get involved… \n\n\n\nCAST: Jessica Fortin (Snow White)\, Anna Leung (Cinderella)\, Geneviève Charron (Donkeyskin)\, Valérie Garçon (Beauty)\, Marjolaine Chevet (The Evil Queen)\, Laurence Bonin (Tinker Bell)\, Xavier Dencausse (Mirror)\, and Stéphane Poulin (Grumpy). \n\n\n\n\n\n\n\n\n\n\n\n\n\n\n\n\n\n\n\n\nThis event is organized by:
URL:https://naccnt.ca/event/il-etait-une-fois-et-alors/2024-03-29/
LOCATION:Northern Arts and Cultural Centre (NACC)\, 4701 52nd Ave\, Yellowknife\, NT\, X1A 2N7\, Canada
CATEGORIES:Yellowknife
ATTACH;FMTTYPE=image/png:https://naccnt.ca/wp-content/uploads/2024/03/il-etait-front-page.png
ORGANIZER;CN="Association franco-culturelle de Yellowknife":MAILTO:dg@afcy.info
END:VEVENT
BEGIN:VEVENT
DTSTART;TZID=America/Edmonton:20240330T193000
DTEND;TZID=America/Edmonton:20240330T193000
DTSTAMP:20260420T013512
CREATED:20240305T225942Z
LAST-MODIFIED:20240312T192316Z
UID:10000107-1711827000-1711827000@naccnt.ca
SUMMARY:Il était une fois\, et alors?
DESCRIPTION:Avis : Spectacle Pour Public AvertiCette représentation\, abordant des thèmes matures\, ne convient pas aux enfants et est recommandée pour un public adulte. \n\n\n\nNotice: Performance for Mature AudiencesThis performance explores mature themes and is not suitable for children. It is recommended for an adult audience. \n\n\n\n\n\n\n\nOyez\, oyez! Le Théâtre du 62e parallèle et l’AFCY sont très fiers de vous convier aux représentations de leur dernière création théâtrale communautaire. \n\n\n\nNe manquez pas « Il était une fois\, et alors? »\, une œuvre originale signée Bruno Tanguy\, jouée par une talentueuse distribution 100 % locale et brillamment mise en scène par Annie Larochelle et Julie Plourde.  \n\n\n\nCette pièce unique en son genre sera jouée au NACC les 29 et 30 mars. Les portes ouvrent à 19 h et le spectacle commence à 19 h 30. \n\n\n\nAVERTISSEMENT\, la pièce est recommandée pour un public adulte; il s’agit d’un spectacle pour public averti abordant des thèmes matures qui ne convient pas aux enfants.  \n\n\n\nSYNOPSIS : Bien des années se sont écoulées depuis que Blanche-Neige a croqué sa pomme\, que Cendrillon a retrouvé son soulier\, et que Belle a épousé sa Bête et Peau d’Âne\, son prince. Que sont devenues les princesses des contes de fées de notre enfance? À l’occasion de l’anniversaire de Blanche-Neige\, les princesses sont réunies : Peau d’âne en robe soleil est restée ingénue\, alors que Belle se débat avec les mauvaises habitudes de son époux la Bête et que Cendrillon est devenue la reine du jetset. Entre disputes et règlement de compte\, qui sortira vainqueur? Surtout lorsque la Méchante Reine et la fée Clochette s’en mêlent… \n\n\n\nDISTRIBUTION : Jessica Fortin (Blanche Neige)\, Anna Leung (Cendrillon)\, Geneviève Charron (Peau d’Âne)\, Valérie Garçon (Belle)\, Marjolaine Chevet (La Méchante Reine)\, Laurence Bonin (Clochette)\, Xavier Dencausse (Miroir)\, et Stéphane Poulin (Grincheux). \n\n\n\nIMPORTANT : Veuillez noter que cette pièce est intégralement interprétée en français sans sous-titres. Nous vous encourageons néanmoins vivement à initier vos amis\, qui ne maîtrisent peut-être pas parfaitement le français\, à cette expérience théâtrale unique. Nous sommes convaincus que la beauté et l’émotion véhiculées par une performance live sont universellement accessibles et appréciables. Au plaisir de vous accueillir ! \n\n\n\n\n\n\n\nIMPORTANT : Please note\, this play is presented entirely in French and does not offer subtitles. While this might pose a challenge for non-native speakers to understand every detail\, we encourage you to attend and immerse yourself in the theatrical experience. We believe the beauty and emotion of live performance can be appreciated by all. We hope to see you there! \n\n\n\nHear ye\, hear ye! Le Théâtre du 62e parallèle and the AFCY are very proud to invite you to the performances of their latest community theatrical creation. \n\n\n\nDon’t miss « Il était une fois\, et alors? »\, an original work by Bruno Tanguy\, performed by a talented 100% local cast and brilliantly directed by Annie Larochelle and Julie Plourde. \n\n\n\nThis one-of-a-kind play will be performed at the NACC on March 29 and 30. Doors open at 7 p.m.\, and the show starts at 7:30 p.m. \n\n\n\nWARNING\, the play is recommended for an adult audience; it is a performance for mature audiences addressing themes not suitable for children. \n\n\n\nSYNOPSIS: Many years have passed since Snow White bit her apple\, Cinderella found her slipper\, and Beauty married her Beast and Donkeyskin\, her prince. What have become of the fairy tale princesses of our childhood? On the occasion of Snow White’s birthday\, the princesses are reunited: Donkeyskin in her sun dress remains naive\, while Beauty struggles with her husband the Beast’s bad habits and Cinderella has become the queen of the jet set. Among disputes and settling scores\, who will emerge victorious? Especially when the Evil Queen and Tinker Bell get involved… \n\n\n\nCAST: Jessica Fortin (Snow White)\, Anna Leung (Cinderella)\, Geneviève Charron (Donkeyskin)\, Valérie Garçon (Beauty)\, Marjolaine Chevet (The Evil Queen)\, Laurence Bonin (Tinker Bell)\, Xavier Dencausse (Mirror)\, and Stéphane Poulin (Grumpy). \n\n\n\n\n\n\n\n\n\n\n\n\n\n\n\n\n\n\n\n\nThis event is organized by:
URL:https://naccnt.ca/event/il-etait-une-fois-et-alors/2024-03-30/
LOCATION:Northern Arts and Cultural Centre (NACC)\, 4701 52nd Ave\, Yellowknife\, NT\, X1A 2N7\, Canada
CATEGORIES:Yellowknife
ATTACH;FMTTYPE=image/png:https://naccnt.ca/wp-content/uploads/2024/03/il-etait-front-page.png
ORGANIZER;CN="Association franco-culturelle de Yellowknife":MAILTO:dg@afcy.info
END:VEVENT
END:VCALENDAR