BEGIN:VCALENDAR
VERSION:2.0
PRODID:-//Northern Arts &amp; Cultural Centre - ECPv6.13.2//NONSGML v1.0//EN
CALSCALE:GREGORIAN
METHOD:PUBLISH
X-WR-CALNAME:Northern Arts &amp; Cultural Centre
X-ORIGINAL-URL:https://naccnt.ca
X-WR-CALDESC:Events for Northern Arts &amp; Cultural Centre
REFRESH-INTERVAL;VALUE=DURATION:PT1H
X-Robots-Tag:noindex
X-PUBLISHED-TTL:PT1H
BEGIN:VTIMEZONE
TZID:America/Edmonton
BEGIN:DAYLIGHT
TZOFFSETFROM:-0700
TZOFFSETTO:-0600
TZNAME:MDT
DTSTART:20240310T090000
END:DAYLIGHT
BEGIN:STANDARD
TZOFFSETFROM:-0600
TZOFFSETTO:-0700
TZNAME:MST
DTSTART:20241103T080000
END:STANDARD
END:VTIMEZONE
BEGIN:VEVENT
DTSTART;TZID=America/Edmonton:20241004T183000
DTEND;TZID=America/Edmonton:20241004T183000
DTSTAMP:20260419T120433
CREATED:20240924T193840Z
LAST-MODIFIED:20240924T201349Z
UID:10000184-1728066600-1728066600@naccnt.ca
SUMMARY:FREE SCREENING OF SUGARCANE
DESCRIPTION:Please join us for a free community screening of the documentary film SUGARCANE at the Northern Arts and Cultural Center on Friday\, October 4\, 2024 at 6:30 PM. Doors will open at 5:30 PM. Refreshments will be served from 5:30-6:30 PM. Q&A with the filmmakers to follow the screening. THIS EVENT IS FIRST COME FIRST SERVED\, EARLY ARRIVAL IS ENCOURAGED. \n\n\n\nA stunning tribute to the resilience of Native people and their way of life\, SUGARCANE\, the debut feature documentary from Julian Brave NoiseCat and Emily Kassie\, is an epic cinematic portrait of a community during a moment of international reckoning. \n\n\n\nFREE ADMISSION \n\n\n\n\n\n\n\n\n\n\n\n\n\n\nThis event is organized by:
URL:https://naccnt.ca/event/free-screening-of-sugarcane/
LOCATION:Northern Arts and Cultural Centre (NACC)\, 4701 52nd Ave\, Yellowknife\, NT\, X1A 2N7\, Canada
CATEGORIES:Yellowknife
ATTACH;FMTTYPE=image/jpeg:https://naccnt.ca/wp-content/uploads/2024/09/sugarcane.jpg
END:VEVENT
BEGIN:VEVENT
DTSTART;TZID=America/Edmonton:20241009T090000
DTEND;TZID=America/Edmonton:20241009T110000
DTSTAMP:20260419T120433
CREATED:20240927T201051Z
LAST-MODIFIED:20240927T201055Z
UID:10000185-1728464400-1728471600@naccnt.ca
SUMMARY:Enhanced Citizenship Ceremony
DESCRIPTION:The Institute for Canadian Citizenship\, in collaboration with Immigration\, Refugees\, and Citizenship Canada\, is pleased to host an enhanced citizenship ceremony at the Northern Arts & Cultural Centre on October 9th from 9 AM to 11 AM. This is a wonderful opportunity to witness individuals from diverse backgrounds becoming Canadian citizens. We hope you’ll come out to support and celebrate this momentous occasion with us!  \n\n\n\nRegister here: https://forms.office.com/r/s9GvQCkL1J by Monday\, October 7th. \n\n\n\n\n\n\n\n\nThis event is organized by:
URL:https://naccnt.ca/event/enhanced-citizenship-ceremony/
LOCATION:Northern Arts and Cultural Centre (NACC)\, 4701 52nd Ave\, Yellowknife\, NT\, X1A 2N7\, Canada
CATEGORIES:Yellowknife
ATTACH;FMTTYPE=image/png:https://naccnt.ca/wp-content/uploads/2024/09/citizenship-spek.png
END:VEVENT
BEGIN:VEVENT
DTSTART;TZID=America/Edmonton:20241019T193000
DTEND;TZID=America/Edmonton:20241019T193000
DTSTAMP:20260419T120433
CREATED:20240816T160000Z
LAST-MODIFIED:20241002T175727Z
UID:10000145-1729366200-1729366200@naccnt.ca
SUMMARY:The Rocky Horror Picture Show Sing-Along
DESCRIPTION:For the first time since 2019\, NACC is excited to host a series of sing-along movie musical events! Whether you catch yourself softly humming along to the soundtrack\, or are belting each note\, these events are bound to be a great time!  \n\n\n\nWhen Brad and Janet are stranded in a creepy castle\, a plethora of ghoulish hosts take them on a strange journey they’ll never forget. The Rocky Horror Picture Show singalong hit the NACC stage back in 2019\, and we’ve been SCREAMING for more ever since! Your MC will lead you through the evening’s participation\, including an audience costume contest! This cult classic event comes just in time for Halloween\, but the wait might leave you steeped in antici….PATION. Take a jump to the left\, a step to the right\, and grab your tickets for the haunt of your life! \n\n\n\nOur MC will lead you through the evening’s participation\, and host activities (including a costume contest)! We encourage you to dress up and join us in celebrating one of the most beloved movie musicals.  \n\n\n\nRating: 14-A \n\n\n\nEach ticket includes one prop bag to be used during the screening. Instructions on the props will be provided by our MC at the evening’s showing. \n\n\n\n\n\n\n\n\n\n\n\n\n\n\nThe Rocky Horror Picture Show Sing-Along in 2019The Rocky Horror Picture Show Sing-Along in 2019\n\n\n\n\n\n\n\nThis event is organized by:
URL:https://naccnt.ca/event/the-rocky-horror-picture-show-sing-along/
LOCATION:Northern Arts and Cultural Centre (NACC)\, 4701 52nd Ave\, Yellowknife\, NT\, X1A 2N7\, Canada
CATEGORIES:NACC Presents,Yellowknife
ATTACH;FMTTYPE=image/jpeg:https://naccnt.ca/wp-content/uploads/2024/08/rocky-spektrix.jpg
END:VEVENT
END:VCALENDAR