BEGIN:VCALENDAR
VERSION:2.0
PRODID:-//Northern Arts &amp; Cultural Centre - ECPv6.13.2//NONSGML v1.0//EN
CALSCALE:GREGORIAN
METHOD:PUBLISH
X-ORIGINAL-URL:https://naccnt.ca
X-WR-CALDESC:Events for Northern Arts &amp; Cultural Centre
REFRESH-INTERVAL;VALUE=DURATION:PT1H
X-Robots-Tag:noindex
X-PUBLISHED-TTL:PT1H
BEGIN:VTIMEZONE
TZID:America/Edmonton
BEGIN:DAYLIGHT
TZOFFSETFROM:-0700
TZOFFSETTO:-0600
TZNAME:MDT
DTSTART:20250309T090000
END:DAYLIGHT
BEGIN:STANDARD
TZOFFSETFROM:-0600
TZOFFSETTO:-0700
TZNAME:MST
DTSTART:20251102T080000
END:STANDARD
END:VTIMEZONE
BEGIN:VEVENT
DTSTART;TZID=America/Edmonton:20250117T193000
DTEND;TZID=America/Edmonton:20250117T193000
DTSTAMP:20260419T064909
CREATED:20241211T221129Z
LAST-MODIFIED:20241211T221218Z
UID:10000195-1737142200-1737142200@naccnt.ca
SUMMARY:The Banff Centre Mountain Film Festival
DESCRIPTION:The Banff Centre Mountain Film Festival is an international film screening of films and documentaries about mountain culture\, sports\, environment and adventure & exploration\, held every January\, in Yellowknife\, NT\, hosted by Overlander Sports.  \n\n\n\nTickets are for sale through Overlander Sports. \n\n\n\n\n\n\n\n\nThis event is organized by:
URL:https://naccnt.ca/event/banff-centre-mountain-film-festival/
LOCATION:Northern Arts and Cultural Centre (NACC)\, 4701 52nd Ave\, Yellowknife\, NT\, X1A 2N7\, Canada
CATEGORIES:Yellowknife
ATTACH;FMTTYPE=image/png:https://naccnt.ca/wp-content/uploads/2024/12/banff-film-fest.png
END:VEVENT
BEGIN:VEVENT
DTSTART;TZID=America/Edmonton:20250118T193000
DTEND;TZID=America/Edmonton:20250118T193000
DTSTAMP:20260419T064909
CREATED:20241211T221312Z
LAST-MODIFIED:20241211T221317Z
UID:10000196-1737228600-1737228600@naccnt.ca
SUMMARY:The Banff Centre Mountain Film Festival
DESCRIPTION:The Banff Centre Mountain Film Festival is an international film screening of films and documentaries about mountain culture\, sports\, environment and adventure & exploration\, held every January\, in Yellowknife\, NT\, hosted by Overlander Sports.  \n\n\n\nTickets are for sale through Overlander Sports. \n\n\n\n\n\n\n\n\nThis event is organized by:
URL:https://naccnt.ca/event/the-banff-centre-mountain-film-festival/
LOCATION:Northern Arts and Cultural Centre (NACC)\, 4701 52nd Ave\, Yellowknife\, NT\, X1A 2N7\, Canada
CATEGORIES:Yellowknife
ATTACH;FMTTYPE=image/png:https://naccnt.ca/wp-content/uploads/2024/12/banff-film-fest.png
END:VEVENT
BEGIN:VEVENT
DTSTART;TZID=America/Edmonton:20250125T203000
DTEND;TZID=America/Edmonton:20250125T210000
DTSTAMP:20260419T064909
CREATED:20240816T160000Z
LAST-MODIFIED:20250124T232733Z
UID:10000150-1737837000-1737838800@naccnt.ca
SUMMARY:Old Man Luedecke
DESCRIPTION:THIS PERFORMANCE IS DELAYED UNTIL 8:30PM \n\n\n\n\n\n\n\nA East Coast Treat!\n\n\n\nOld Man Luedecke is the recording and performing name of two-time JUNO award-winning and Polaris prize-nominated singer/songwriter Chris Luedecke. He’s a multiple East Coast Music Award winner known for his high-energy\, banjo-driven stompers\, touching guitar ballads\, and dry\, humorous stories. Old Man Luedecke has been making a soundtrack to an authentic life for nearly twenty years. \n\n\n\nBorn in Toronto and long-time resident of Chester\, Nova Scotia\, Luedecke began recording in the early 2000s DIY folk scene of Halifax. He made his two JUNO-winning albums for Black Hen Music in the late ‘00s\, with Steve Dawson as producer\, at Vancouver’s famed Factory studio. \n\n\n\nLuedecke has kept up many worldwide concert appearances\, playing in Europe and around Canada and the USA\, and six trips to Australia\, including a memorable tour where his whole young family travelled with him around rural Queensland for the Festival of Small Halls. \n\n\n\nIn May\, 2022\, Luedecke received an honorary doctorate from King’s University in Halifax for his cultural contributions. \n\n\n\n\n\n\n\n\n\n\n\n\n\n\n\nLATEST RELEASE\n\n\n\n\n\n\nShe Told Me Where to Go is out now! I hope you love it as much as I do. From the beautiful artwork to the beautiful hooky playing of Afie Jurvanen\, Darcy Yates\, Joshua Van Tassel and Glenn Patscha\, to the currents of many types of love running through it.   \nOld Man Ludecke on his new album\, She Told Me Where to Go\n\n\n\n\n\n\n\n\n\n\n\nIn an Old Man Luedecke show\, there will be some very modern sounding songs about love\, family life\, the importance of friends\, and the search for meaning; some traditional music reminiscent of Appalachian old-time music\, including high-energy banjo driven stompers; and some wickedly funny songs about the joy of cooking\, sardines\, and yodelling. It’s quite a ride. Richard Barry\, Roots Music Canada\n\n\n\n\n\n\n\n\n\n\n\n\n\n\nThis event is organized by:
URL:https://naccnt.ca/event/old-man-luedecke/
LOCATION:Northern Arts and Cultural Centre (NACC)\, 4701 52nd Ave\, Yellowknife\, NT\, X1A 2N7\, Canada
CATEGORIES:NACC Presents,Season Shows,Yellowknife
ATTACH;FMTTYPE=image/png:https://naccnt.ca/wp-content/uploads/2025/01/Website-Banner-1.png
END:VEVENT
BEGIN:VEVENT
DTSTART;TZID=America/Edmonton:20250131T193000
DTEND;TZID=America/Edmonton:20250131T193000
DTSTAMP:20260419T064909
CREATED:20241216T190000Z
LAST-MODIFIED:20241211T225931Z
UID:10000197-1738351800-1738351800@naccnt.ca
SUMMARY:ANGLE MORT de Stéphanie Morin-Robert
DESCRIPTION:ANGLE MORT est une comédie entièrement véridique sur le fait de grandir dans le nord de l’Ontario avec un œil de verre. La pièce autobiographique parle de l’enfance troublée de Stéphanie Morin-Robert et de la façon dont elle a surmonté sa peur d’être différente\, et ce\, dès l’âge de 8 ans. Avec l’aide de son chat\, d’une paire de lunettes de soleil et d’un pouvoir magique indésirable\, elle découvre qu’elle a ce qu’il faut pour affronter ses intimidateurs à sa nouvelle école et accepter son handicap. Entourée d’un écran\, de lumière et d’une caméra\, Stéphanie Morin-Robert nous invite dans son intimité ainsi que dans sa tête\, littéralement. Un mélange de récit\, de danse contemporaine\, de projection en direct et de marionnettes mettant en vedette son œil de verre. Charmant\, touchant\, inattendu et à mourir de rire\, ANGLE MORT est un récit captivant livré avec vulnérabilité par une interprète contagieuse. \n\n\n\nC’est un magnifique spectacle\, allez voir ça en courant ! Lucie-Madeleine Delisle\, ICI RADIO-CANADA – Critique\, 17 oct\, 2022\n\n\n\nInformation : Le spectacle peut contenir des images surprenantes et aborde des sujets sensibles\, comme le cancer et l’intimidation. Pour toute question\, contactez-nous. programmation@afcy.info \n\n\n\nBLINDSIDE is an entirely true comedy about growing up in Northern Ontario with a glass eye. This autobiographical play explores the troubled childhood of Stéphanie Morin-Robert and how she overcame her fear of being different\, starting at the age of 8. With the help of her cat\, a pair of sunglasses\, and an unwanted magical power\, she discovers that she has what it takes to face her bullies at her new school and accept her disability. Surrounded by screens\, lights\, and cameras\, Stéphanie Morin-Robert invites us into her inner world and literally into her head. A blend of storytelling\, contemporary dance\, live projections\, and puppetry featuring her glass eye. Charming\, touching\, unexpected\, and laugh-out-loud funny\, BLINDSIDE is a captivating narrative delivered with vulnerability by a contagious performer. \n\n\n\nIt’s a magnificent show\, go see it as soon as you can! Lucie-Madeleine Delisle\, ICI RADIO-CANADA – Critique\, October 17\, 2022\n\n\n\nNote: The performance may contain surprising imagery and addresses sensitive topics such as cancer and bullying. For any questions\, please contact us. programmation@afcy.info \n\n\n\n\n\n\n\n\n\n\n\n\n\n\n\n\nThis event is organized by:
URL:https://naccnt.ca/event/angle-mort-de-stephanie-morin-robert/
LOCATION:Northern Arts and Cultural Centre (NACC)\, 4701 52nd Ave\, Yellowknife\, NT\, X1A 2N7\, Canada
CATEGORIES:Yellowknife
ATTACH;FMTTYPE=image/jpeg:https://naccnt.ca/wp-content/uploads/2024/12/AFCY_Morin_PubV1.jpg
ORGANIZER;CN="Association franco-culturelle de Yellowknife":MAILTO:dg@afcy.info
END:VEVENT
END:VCALENDAR